Workbook

Sheet MAYO ORDINARIO
A1: En cumplimiento a lo dispuesto en el artículo 11 párrafo último de la Ley de Coordinación Fiscal para el Estado de Oaxaca y numeral 5 fracción II, inciso b del Acuerdo por el que se expiden los Lineamientos para la publicación de la información a que se refiere el articulo 6o. de la Ley de Coordinación Fiscal.
A2: I. Importe de las Participaciones pagadas a los Municipios del Estado de Oaxaca correspondiente al mes de MAYO de 2026, incluye los Ajustes (Negativos) Definitivos 2025, del Fondo de Fomento Municipal y del Fondo de Impuesto Especial Sobre Producción y Servicios.
A3: CLAVE | B3: MUNICIPIO | C3: FONDO GENERAL DE PARTICIPACIONES | D3: FONDO DE FOMENTO MUNICIPAL | E3: FONDO DE IMPUESTOS ESPECIALES SOBRE PRODUCCION Y SERVICIOS | F3: FONDO DE FISCALIZACION Y RECAUDACIÓN | G3: FONDO DE COMPENSACION | H3: IMPUESTO SOBRE AUTOMÓVILES NUEVOS | I3: IMPUESTO A LAS VENTAS FINALES DE GASOLINAS Y DIESEL | J3: 9/11 FIEPS GASOLINA Y DIESEL (CORRESPONDIENTE A ABRIL 2026) | K3: FONDO DE COMPENSACION DEL IMPUESTO SOBRE AUTOMOVILES NUEVOS ISAN | L3: ISR ARTICULO 126 | M3: ISR 3-B | N3: HIDROCARBUROS | O3: TOTAL
A4: 1 | B4: ABEJONES | C4: 152871.04 | D4: 53141.6 | E4: 2017.16 | F4: 6015.11 | G4: 2126.3 | H4: 698.64 | I4: 1806.89 | J4: 1.1 | K4: 458.79 | L4: 126.81 | M4: 0 | N4: 0 | O4: =SUM(C4:N4) -> 219263.44
A5: 2 | B5: ACATLAN DE PEREZ FIGUEROA | C5: 4394727.7 | D5: 1647883 | E5: 31685.83 | F5: 78156.1 | G5: 113608.36 | H5: 20489.35 | I5: 105136.16 | J5: 64.05 | K5: 6016.5 | L5: 8135.79 | M5: 0 | N5: 42065.78 | O5: =SUM(C5:N5) -> 6447968.6
A6: 3 | B6: ASUNCION CACALOTEPEC | C6: 268816.32 | D6: 49565.6 | E6: 2595.12 | F6: 7113.03 | G6: 6521.82 | H6: 1244.8 | I6: 5505.04 | J6: 3.35 | K6: 542.95 | L6: 389.41 | M6: 0 | N6: 0 | O6: =SUM(C6:N6) -> 342297.44
A7: 4 | B7: ASUNCION CUYOTEPEJI | C7: 157557.4 | D7: 61711.49 | E7: 1479.88 | F7: 3988.8 | G7: 2759.7 | H7: 731.41 | I7: 2800.81 | J7: 1.71 | K7: 333.14 | L7: 236.08 | M7: 0 | N7: 0 | O7: =SUM(C7:N7) -> 231600.42
A8: 5 | B8: ASUNCION IXTALTEPEC | C8: 2358113.3 | D8: 425843.63 | E8: 16631.01 | F8: 42515.19 | G8: 37759.49 | H8: 10892.15 | I8: 44571.9 | J8: 27.16 | K8: 3066.47 | L8: 4230.6 | M8: 0 | N8: 0 | O8: =SUM(C8:N8) -> 2943650.9
A9: 6 | B9: ASUNCION NOCHIXTLAN | C9: 3105451.5 | D9: 860349.37 | E9: 17748.34 | F9: 40516.65 | G9: 51056.61 | H9: 14456.84 | I9: 63786.66 | J9: 38.86 | K9: 3054.98 | L9: 6331 | M9: 138099 | N9: 0 | O9: =SUM(C9:N9) -> 4300889.9
A10: 7 | B10: ASUNCION OCOTLAN | C10: 316345.35 | D10: 84463.28 | E10: 3480.22 | F10: 10126.71 | G10: 6283.95 | H10: 1447.79 | I10: 5145.58 | J10: 3.13 | K10: 779.03 | L10: 361.11 | M10: 0 | N10: 0 | O10: =SUM(C10:N10) -> 428436.15
A11: 8 | B11: ASUNCION TLACOLULITA | C11: 160554.77 | D11: 56368.04 | E11: 1609.98 | F11: 4607.1 | G11: 1846.14 | H11: 735.75 | I11: 2176.5 | J11: 1.33 | K11: 330.59 | L11: 208.84 | M11: 0 | N11: 0 | O11: =SUM(C11:N11) -> 228439.04
A12: 9 | B12: AYOTZINTEPEC | C12: 624244.77 | D12: 167022.62 | E12: 4813.38 | F12: 12811.8 | G12: 17305.37 | H12: 2878.56 | I12: 14732.04 | J12: 8.98 | K12: 1043.47 | L12: 1033.86 | M12: 0 | N12: 0 | O12: =SUM(C12:N12) -> 845894.85
A13: 10 | B13: EL BARRIO DE LA SOLEDAD | C13: 3070308.3 | D13: 428273.28 | E13: 15453.62 | F13: 25327.93 | G13: 33273.93 | H13: 14658.71 | I13: 61699.68 | J13: 37.59 | K13: 1892.22 | L13: 7394.48 | M13: 99563 | N13: 0 | O13: =SUM(C13:N13) -> 3757882.7
A14: 11 | B14: CALIHUALA | C14: 168027.48 | D14: 62837.52 | E14: 1789.13 | F14: 5010.39 | G14: 3601.54 | H14: 776.93 | I14: 3059.35 | J14: 1.86 | K14: 380.36 | L14: 219.11 | M14: 0 | N14: 0 | O14: =SUM(C14:N14) -> 245703.67
A15: 12 | B15: CANDELARIA LOXICHA | C15: 1313127.6 | D15: 94580.06 | E15: 8341.96 | F15: 17906.06 | G15: 29264.32 | H15: 6204.12 | I15: 30662.59 | J15: 18.68 | K15: 1354.09 | L15: 2776.21 | M15: 0 | N15: 0 | O15: =SUM(C15:N15) -> 1504235.7
... A573: 570 | B573: ZIMATLAN DE ALVAREZ | C573: 2820311.5 | D573: 688480.46 | E573: 16896.53 | F573: 37501.31 | G573: 55208.57 | H573: 13228.14 | I573: 62591.12 | J573: 38.13 | K573: 3093.7 | L573: 5807.75 | M573: 242504 | N573: 0 | O573: =SUM(C573:N573) -> 3945661.2
A574: TOTAL | C574: =SUM(C4:C573) -> 6.3828538e+08 | D574: =SUM(D4:D573) -> 1.5682348e+08 | E574: =SUM(E4:E573) -> 4247741.2 | F574: =SUM(F4:F573) -> 9973830 | G574: =SUM(G4:G573) -> 10406263 | H574: =SUM(H4:H573) -> 2967564.8 | I574: =SUM(I4:I573) -> 12682554 | J574: =SUM(J4:J573) -> 7726.8 | ... N574: =SUM(N4:N573) -> 1384061.5 | O574: =SUM(C574:N574) -> 8.8029011e+08
B575: NOTA: LAS SUMATORIAS DE CADA CONCEPTO PUEDE NO COINCIDIR POR EL REDONDEO

Sheet TOTAL PAGADO
A1: En cumplimiento a lo dispuesto en el artículo 11 párrafo último de la Ley de Coordinación Fiscal para el Estado de Oaxaca y numeral 5 fracción II, inciso b del Acuerdo por el que se expiden los Lineamientos para la publicación de la información a que se refiere el articulo 6o. de la Ley de Coordinación Fiscal.
A2: I. Importe Total de las Participaciones pagadas a los Municipios del Estado de Oaxaca correspondiente al mes de MAYO de 2026.
A3: CLAVE | B3: MUNICIPIO | C3: MAYO ORDINARIO | D3: TOTAL PAGADO
A4: 1 | B4: ABEJONES | C4: =+'MAYO ORDINARIO'!O4 -> 219263.44 | D4: =SUM(C4:C4) -> 219263.44
A5: 2 | B5: ACATLAN DE PEREZ FIGUEROA | C5: =+'MAYO ORDINARIO'!O5 -> 6447968.6 | D5: =SUM(C5:C5) -> 6447968.6
A6: 3 | B6: ASUNCION CACALOTEPEC | C6: =+'MAYO ORDINARIO'!O6 -> 342297.44 | D6: =SUM(C6:C6) -> 342297.44
A7: 4 | B7: ASUNCION CUYOTEPEJI | C7: =+'MAYO ORDINARIO'!O7 -> 231600.42 | D7: =SUM(C7:C7) -> 231600.42
A8: 5 | B8: ASUNCION IXTALTEPEC | C8: =+'MAYO ORDINARIO'!O8 -> 2943650.9 | D8: =SUM(C8:C8) -> 2943650.9
A9: 6 | B9: ASUNCION NOCHIXTLAN | C9: =+'MAYO ORDINARIO'!O9 -> 4300889.9 | D9: =SUM(C9:C9) -> 4300889.9
A10: 7 | B10: ASUNCION OCOTLAN | C10: =+'MAYO ORDINARIO'!O10 -> 428436.15 | D10: =SUM(C10:C10) -> 428436.15
A11: 8 | B11: ASUNCION TLACOLULITA | C11: =+'MAYO ORDINARIO'!O11 -> 228439.04 | D11: =SUM(C11:C11) -> 228439.04
A12: 9 | B12: AYOTZINTEPEC | C12: =+'MAYO ORDINARIO'!O12 -> 845894.85 | D12: =SUM(C12:C12) -> 845894.85
A13: 10 | B13: EL BARRIO DE LA SOLEDAD | C13: =+'MAYO ORDINARIO'!O13 -> 3757882.7 | D13: =SUM(C13:C13) -> 3757882.7
A14: 11 | B14: CALIHUALA | C14: =+'MAYO ORDINARIO'!O14 -> 245703.67 | D14: =SUM(C14:C14) -> 245703.67
A15: 12 | B15: CANDELARIA LOXICHA | C15: =+'MAYO ORDINARIO'!O15 -> 1504235.7 | D15: =SUM(C15:C15) -> 1504235.7
... A573: 570 | B573: ZIMATLAN DE ALVAREZ | C573: =+'MAYO ORDINARIO'!O573 -> 3945661.2 | D573: =SUM(C573:C573) -> 3945661.2
A574: TOTAL | C574: =SUM(C4:C573) -> 8.8029011e+08 | D574: =SUM(D4:D573) -> 8.8029011e+08
